BEGIN:VCALENDAR
VERSION:2.0
PRODID:-//wp-events-plugin.com//7.2.3.1//EN
TZID:Europe/Paris
X-WR-TIMEZONE:Europe/Paris
BEGIN:VEVENT
UID:18@freddeuxcecilereims.org
DTSTART;TZID=Europe/Paris;VALUE=DATE:20251010
DTEND;TZID=Europe/Paris;VALUE=DATE:20251013
DTSTAMP:20251008T075548Z
URL:https://freddeuxcecilereims.org/evenements/35e-salon-de-la-revue/
SUMMARY:35e Salon de la revue
DESCRIPTION:Les Cahiers Cécile Reims &amp\; Fred Deux seront présents lor
 s du 35e Salon de la revue grâce Pascale Goze\, fondatrice des éditions
  Lunatique basées à Vitré (Bretagne). Dans l'attente du numéro 3 de no
 s Cahiers\, les numéros 1 et 2 seront disponibles aux côtés du numéro 
 25 de la revue Le Cafard hérétique\, fraîchement édité par les éditi
 ons Lunatique.\n\nEn savoir +
ATTACH;FMTTYPE=image/jpeg:https://freddeuxcecilereims.org/site/wp-content/
 uploads/Salon-2025-Carte.jpg
CATEGORIES:Salon
LOCATION:Halle des Blancs Manteaux\, 48 rue vieille du Temple\, Paris\, 750
 04\, France
X-APPLE-STRUCTURED-LOCATION;VALUE=URI;X-ADDRESS=48 rue vieille du Temple\, 
 Paris\, 75004\, France;X-APPLE-RADIUS=100;X-TITLE=Halle des Blancs Manteau
 x:geo:0,0
END:VEVENT
BEGIN:VTIMEZONE
TZID:Europe/Paris
X-LIC-LOCATION:Europe/Paris
BEGIN:DAYLIGHT
DTSTART:20250330T030000
TZOFFSETFROM:+0100
TZOFFSETTO:+0200
TZNAME:CEST
END:DAYLIGHT
END:VTIMEZONE
END:VCALENDAR