BEGIN:VCALENDAR
VERSION:2.0
PRODID:-//wp-events-plugin.com//7.2.3.1//EN
TZID:Europe/Paris
X-WR-TIMEZONE:Europe/Paris
BEGIN:VEVENT
UID:15@freddeuxcecilereims.org
DTSTART;TZID=Europe/Paris;VALUE=DATE:20250618
DTEND;TZID=Europe/Paris;VALUE=DATE:20250623
DTSTAMP:20250606T091445Z
URL:https://freddeuxcecilereims.org/evenements/42e-marche-de-la-poesie/
SUMMARY:42e Marché de la poésie
DESCRIPTION:\n\nPascale Goze\, fondatrice des éditions Lunatique basées 
 à Vitré (Bretagne)\, sera présente au 42e Marché de la Poésie\, stand
  302 (voir le plan). Auprès des recueils de poésie\, des derniers numér
 os du Cafard hérétique\, des romans\, des albums illustrés\, Pascale no
 us fait l'honneur de réserver une petite place à notre revue Les Cahiers
  Cécile Reims &amp\; Fred Deux.\n\n\nVous pouvez consulter et/ou téléch
 arger le communiqué de presse de l'événement.\nLunatique invite tous ce
 ux et toutes celles qui le souhaitent à cliquer sur ce lien pour s'inscri
 re en dédicace\, ou à simplement l'informer de sa présence sur le stand
  (le nombre de chaises est limité !).\nEn savoir +
ATTACH;FMTTYPE=image/jpeg:https://freddeuxcecilereims.org/site/wp-content/
 uploads/MDLP-42-Affiche.jpg
CATEGORIES:Salon
LOCATION:42e Marché de la poésie\, Place Saint-Sulpice\, Paris\, 75006\, 
 France
X-APPLE-STRUCTURED-LOCATION;VALUE=URI;X-ADDRESS=Place Saint-Sulpice\, Paris
 \, 75006\, France;X-APPLE-RADIUS=100;X-TITLE=42e Marché de la poésie:geo
 :0,0
END:VEVENT
BEGIN:VTIMEZONE
TZID:Europe/Paris
X-LIC-LOCATION:Europe/Paris
BEGIN:DAYLIGHT
DTSTART:20250330T030000
TZOFFSETFROM:+0100
TZOFFSETTO:+0200
TZNAME:CEST
END:DAYLIGHT
END:VTIMEZONE
END:VCALENDAR