BEGIN:VCALENDAR
VERSION:2.0
PRODID:-//wp-events-plugin.com//7.2.3.1//EN
TZID:Europe/Paris
X-WR-TIMEZONE:Europe/Paris
BEGIN:VEVENT
UID:16@freddeuxcecilereims.org
DTSTART;TZID=Europe/Paris;VALUE=DATE:20250912
DTEND;TZID=Europe/Paris;VALUE=DATE:20251101
DTSTAMP:20250908T143644Z
URL:https://freddeuxcecilereims.org/evenements/ces-liens-qui-nous-unissent
 /
SUMMARY:Ces liens qui nous unissent
DESCRIPTION:Le vernissage aura lieu le jeudi 11 septembre de 17h à 21h\n\n
 En savoir +
ATTACH;FMTTYPE=image/jpeg:https://freddeuxcecilereims.org/site/wp-content/
 uploads/541655872_1366887402103830_8908208143474538515_n.jpg
CATEGORIES:Exposition
LOCATION:Galerie Alain Margaron\, 5\, rue du Perche\, Paris\, 75003\, Franc
 e
X-APPLE-STRUCTURED-LOCATION;VALUE=URI;X-ADDRESS=5\, rue du Perche\, Paris\,
  75003\, France;X-APPLE-RADIUS=100;X-TITLE=Galerie Alain Margaron:geo:0,0
END:VEVENT
BEGIN:VTIMEZONE
TZID:Europe/Paris
X-LIC-LOCATION:Europe/Paris
BEGIN:DAYLIGHT
DTSTART:20250330T030000
TZOFFSETFROM:+0100
TZOFFSETTO:+0200
TZNAME:CEST
END:DAYLIGHT
BEGIN:STANDARD
DTSTART:20251026T020000
TZOFFSETFROM:+0200
TZOFFSETTO:+0100
TZNAME:CET
END:STANDARD
END:VTIMEZONE
END:VCALENDAR