BEGIN:VCALENDAR
VERSION:2.0
PRODID:-//wp-events-plugin.com//7.2.3.1//EN
TZID:Europe/Paris
X-WR-TIMEZONE:Europe/Paris
BEGIN:VEVENT
UID:22@freddeuxcecilereims.org
DTSTART;TZID=Europe/Paris:20251121T000000
DTEND;TZID=Europe/Paris:20260103T000000
DTSTAMP:20260423T072924Z
URL:https://freddeuxcecilereims.org/evenements/double-regard-fred-deux-et-
 louis-pons/
SUMMARY:Double Regard • Fred Deux et Louis Pons
DESCRIPTION:En savoir +\n\nDu mardi au samedi de 14h à 18h et sur rendez-v
 ous.
ATTACH;FMTTYPE=image/jpeg:https://freddeuxcecilereims.org/site/wp-content/
 uploads/570230858_18243590899288297_3888101407782232777_n.jpg
LOCATION:Galerie Béatrice Soulié\, 11\, Place aux Huiles\, Marseille\, 13
 001\, France
X-APPLE-STRUCTURED-LOCATION;VALUE=URI;X-ADDRESS=11\, Place aux Huiles\, Mar
 seille\, 13001\, France;X-APPLE-RADIUS=100;X-TITLE=Galerie Béatrice Souli
 é:geo:0,0
END:VEVENT
BEGIN:VTIMEZONE
TZID:Europe/Paris
X-LIC-LOCATION:Europe/Paris
BEGIN:STANDARD
DTSTART:20251026T020000
TZOFFSETFROM:+0200
TZOFFSETTO:+0100
TZNAME:CET
END:STANDARD
END:VTIMEZONE
END:VCALENDAR