BEGIN:VCALENDAR
VERSION:2.0
PRODID:-//wp-events-plugin.com//7.2.3.1//EN
TZID:Europe/Paris
X-WR-TIMEZONE:Europe/Paris
BEGIN:VEVENT
UID:2@freddeuxcecilereims.org
DTSTART;TZID=Europe/Paris:20240210T151500
DTEND;TZID=Europe/Paris:20240210T163000
DTSTAMP:20250606T084204Z
URL:https://freddeuxcecilereims.org/evenements/fred-deux-a-cette-epoque-la
 -2/
SUMMARY:Fred Deux : À cette époque-là
DESCRIPTION:Fred Deux (1924-2015)\, dessinateur\, écrivain et conteur est 
 l’auteur d’un récit autobiographique oral enregistré au magnétophon
 e pendant quarante ans. À l’occasion des célébrations du centenaire d
 e sa naissance\, l’association des amis de Fred Deux et Cécile Reims pr
 opose\, dans le cadre du festival Longueur d'ondes l’écoute d’une imp
 rovisation radiophonique de l’artiste diffusée le 8 mars 2000 sur les o
 ndes de France Culture dans le cadre de l’émission Fiction 30 produite 
 par Jean Couturier. Cette séance sera présentée par Emmanuel Guibert (a
 uteur de bande dessinée) et André Kleim (bibliothécaire).\n\nEn savoir 
 +
ATTACH;FMTTYPE=image/jpeg:https://freddeuxcecilereims.org/site/wp-content/
 uploads/affiche-a3-600x.jpg
CATEGORIES:Rencontre
LOCATION:Salle de commission 7 / Le Quartz\, 60 rue du château\, Brest\, 2
 9200\, France
X-APPLE-STRUCTURED-LOCATION;VALUE=URI;X-ADDRESS=60 rue du château\, Brest\
 , 29200\, France;X-APPLE-RADIUS=100;X-TITLE=Salle de commission 7 / Le Qua
 rtz:geo:0,0
END:VEVENT
BEGIN:VTIMEZONE
TZID:Europe/Paris
X-LIC-LOCATION:Europe/Paris
BEGIN:STANDARD
DTSTART:20231029T020000
TZOFFSETFROM:+0200
TZOFFSETTO:+0100
TZNAME:CET
END:STANDARD
END:VTIMEZONE
END:VCALENDAR