BEGIN:VCALENDAR
VERSION:2.0
PRODID:-//wp-events-plugin.com//7.2.3.1//EN
TZID:Europe/Paris
X-WR-TIMEZONE:Europe/Paris
BEGIN:VEVENT
UID:11@freddeuxcecilereims.org
DTSTART;TZID=Europe/Paris:20240921T160000
DTEND;TZID=Europe/Paris:20240921T160000
DTSTAMP:20250606T083218Z
URL:https://freddeuxcecilereims.org/evenements/fred-deux-artiste-et-ecriva
 in-1924-2015/
SUMMARY:Fred Deux\, artiste et écrivain (1924-2015)
DESCRIPTION:À l’occasion de l’exposition « Fred Deux et ses amis\, Ge
 neviève Bonnefoi et Pierre Brache »\, qui s’achèvera le 27 septembre\
 , l’Association culturelle de l’abbaye de Beaulieu-en-Rouergue\, en pa
 rtenariat avec le Centre des Monuments Nationaux\, organise une conférenc
 e placée sous le signe de la littérature\, de la psychanalyse et de la r
 encontre entre un étudiant amateur d’art et l’artiste qu’il admire.
  Elle sera animée par Frédérick Aubourg\, auteur du récent ouvrage Fre
 d Deux\, l'incorrigible. Inédits de la Gana\, et Christophe Guitard\, tou
 s deux membres de l'Association des amis de Fred Deux et Cécile Reims.\n\
 nFred Deux\, artiste déroutant et fascinant aura marqué le public autant
  par ses romans que par son œuvre dessiné. Se sont les deux facettes de 
 cet artiste que Frédérick Aubourg et Christophe Guitard se proposent d
 ’éclairer lors de cette conférence du 21 septembre.\n\nLa publication 
 de La Gana\, premier roman de Fred Deux ne s’est pas faite sans mal 
 : le texte\, cruel et cru\, a fait l’objet d’une importante censure da
 ns laquelle l’éditeur et critique littéraire Maurice Nadeau a joué un
  rôle essentiel. C’est l’histoire de cette censure\, objet du litige 
 entre Fred Deux\, alias Jean Douassot et son éditeur que Frédérick Aubo
 urg nous présentera afin d’éclairer le ressort créatif chez Fred Deux
 .\n\nFred Deux est un artiste iconoclaste\, autodidacte\, assez peu connu 
 du grand public\, puisqu’il est resté toute sa vie réservé vis-à-vis
  des différents courants artistiques des années 1950 jusqu’à son déc
 ès en 2015. Mais cette œuvre plastique (encre de chine\, mine de plomb e
 t aquarelle et quelques sculptures) est pour Christophe Guitard\, peut-êt
 re plus ancrée dans le XXIe siècle\, que dans le XXe par ses enjeux à l
 a fois iconographiques et dans sa démarche artistique teintée de poétiq
 ue et de métaphysique.\n\nEn savoir +
CATEGORIES:Conférence
LOCATION:Abbaye de Beaulieu-en-Rouergue\, 1086 route de l'abbaye\, Ginals\,
  82330\, France
X-APPLE-STRUCTURED-LOCATION;VALUE=URI;X-ADDRESS=1086 route de l'abbaye\, Gi
 nals\, 82330\, France;X-APPLE-RADIUS=100;X-TITLE=Abbaye de Beaulieu-en-Rou
 ergue:geo:0,0
END:VEVENT
BEGIN:VTIMEZONE
TZID:Europe/Paris
X-LIC-LOCATION:Europe/Paris
BEGIN:DAYLIGHT
DTSTART:20240331T030000
TZOFFSETFROM:+0100
TZOFFSETTO:+0200
TZNAME:CEST
END:DAYLIGHT
END:VTIMEZONE
END:VCALENDAR