BEGIN:VCALENDAR
VERSION:2.0
PRODID:-//wp-events-plugin.com//7.2.3.1//EN
TZID:Europe/Paris
X-WR-TIMEZONE:Europe/Paris
BEGIN:VEVENT
UID:9@freddeuxcecilereims.org
DTSTART;TZID=Europe/Paris;VALUE=DATE:20240720
DTEND;TZID=Europe/Paris;VALUE=DATE:20241201
DTSTAMP:20250605T174308Z
URL:https://freddeuxcecilereims.org/evenements/fred-deux-aurait-100-ans-2/
SUMMARY:Fred Deux aurait 100 ans
DESCRIPTION:Dessins Editions Livres illustrés Gravures\nExtrait du texte d
 e Pierre Wat pour le catalogue édité par Pierre Chave en 1992.\n\nCette 
 lente médiation est\, pour celui qui regarde\, une invitation à la patie
 nce. Ce voyage que chaque dessin propose ne peut se faire dans la précipi
 tation ni même dans la certitude d’un but. Voir un dessin de Fred Deux\
 , c’est retrouver la multitude des parcours\, l’aléatoire du crayon. 
 Je rêve de savoir regarder comme Fred Deux dessine. Cacher tour à tour c
 haque partie pour laisser l’autre surgir. Et se laisser aller à la surp
 rise du dévoilement\, à l’étonnement de ces chemins que le dessin fai
 t naître. Voyage en zigzag qui ne peut se faire en nous tenant à distanc
 e. Passeur\, Fred Deux l’est aussi avec celui qui contemple. Ce n’est 
 qu’en passant de l’autre côté avec lui\, en entrant à notre tour da
 ns le processus que ce voyage énigmatique pourra devenir miroir du famili
 er.\nPierre Wat\, juillet 1992\nCatalogue de l’exposition Fred Deux 1992
  galerie Chave Vence\n© Pierre Chave
ATTACH;FMTTYPE=image/jpeg:https://freddeuxcecilereims.org/site/wp-content/
 uploads/IMG_7244.jpg
CATEGORIES:Exposition
LOCATION:Galerie Chave\, 13 rue Isnard\, Vence\, 06140\, France
X-APPLE-STRUCTURED-LOCATION;VALUE=URI;X-ADDRESS=13 rue Isnard\, Vence\, 061
 40\, France;X-APPLE-RADIUS=100;X-TITLE=Galerie Chave:geo:0,0
END:VEVENT
BEGIN:VTIMEZONE
TZID:Europe/Paris
X-LIC-LOCATION:Europe/Paris
BEGIN:DAYLIGHT
DTSTART:20240331T030000
TZOFFSETFROM:+0100
TZOFFSETTO:+0200
TZNAME:CEST
END:DAYLIGHT
BEGIN:STANDARD
DTSTART:20241027T020000
TZOFFSETFROM:+0200
TZOFFSETTO:+0100
TZNAME:CET
END:STANDARD
END:VTIMEZONE
END:VCALENDAR