BEGIN:VCALENDAR
VERSION:2.0
PRODID:-//wp-events-plugin.com//7.2.3.1//EN
TZID:Europe/Paris
X-WR-TIMEZONE:Europe/Paris
BEGIN:VEVENT
UID:7@freddeuxcecilereims.org
DTSTART;TZID=Europe/Paris;VALUE=DATE:20240516
DTEND;TZID=Europe/Paris;VALUE=DATE:20240709
DTSTAMP:20250605T171519Z
URL:https://freddeuxcecilereims.org/evenements/fred-deux-aurait-100-ans/
SUMMARY:Fred Deux aurait 100 ans
DESCRIPTION:Pour Fred et Cécile\n\nÉcrivain\, Fred Deux le fut avec ce li
 vre séminal\, La Gana (1959)\, dont aucun lecteur n’est sorti indemne. 
 Artiste\, peintre\, dessinateur\, il fut l’inventeur d’un univers pour
  lequel il usa tous ses sens\, depuis la découverte du crayon et de l’e
 ncre dans la misère de sa jeunesse jusqu’à ces soixante années passé
 es dans les maisons de Lacoux\, dans l’Ain\, puis de La Châtre\, dans l
 ’Indre à inventer des traits. C’est dans ces deux lieux que Cécile R
 eims et lui partagèrent tout. Cécile Deux\, compagne de soixante ans de 
 vie commune\, y grava à la fois sa propre œuvre et celle de Fred\, jusqu
 e dans l’épuisement des yeux. C’est dans ces lieux aussi qu’il nous
  fit le don de sa voix\, pour le legs du récit de sa vie\, ces deux cents
  heures d’enregistrement improvisées dans la solitude ou l’insomnie. 
 Tous ces gestes ont suscité tant d’admiration qu’on ne compte plus le
  nombre de livres auxquels la vie et les œuvres de Fred Deux ont donné n
 aissance ! Parce que son travail\, sa vie\, leur vie\, ont marqué la nôt
 re\, la mienne\, nous devions leur offrir un nouveau regard.\n\nLa Galerie
  Chave à Vence\, près de Nice\, qui accompagna Fred Deux durant plus de 
 quarante ans\, permet cette nouvelle exposition de dessins\, de gravures\,
  des nombreux « livres d’artiste » qu’elle a édités entre 1970 et 
 1998. Et les amis de Fred Deux seront aux rendez-vous de juin ! Vous tous 
 aussi\, nous l’espérons.\n\nChristian Thorel
ATTACH;FMTTYPE=image/jpeg:https://freddeuxcecilereims.org/site/wp-content/
 uploads/6206a324-a689-4adc-b82b-ae6fd99bc4d3.png
CATEGORIES:Exposition
LOCATION:Galerie et librairie Ombres blanches VO\, 3 rue Mirepoix\, Toulous
 e\, 31000\, France
X-APPLE-STRUCTURED-LOCATION;VALUE=URI;X-ADDRESS=3 rue Mirepoix\, Toulouse\,
  31000\, France;X-APPLE-RADIUS=100;X-TITLE=Galerie et librairie Ombres bla
 nches VO:geo:0,0
END:VEVENT
BEGIN:VTIMEZONE
TZID:Europe/Paris
X-LIC-LOCATION:Europe/Paris
BEGIN:DAYLIGHT
DTSTART:20240331T030000
TZOFFSETFROM:+0100
TZOFFSETTO:+0200
TZNAME:CEST
END:DAYLIGHT
END:VTIMEZONE
END:VCALENDAR