BEGIN:VCALENDAR
VERSION:2.0
PRODID:-//wp-events-plugin.com//7.2.3.1//EN
TZID:Europe/Paris
X-WR-TIMEZONE:Europe/Paris
BEGIN:VEVENT
UID:8@freddeuxcecilereims.org
DTSTART;TZID=Europe/Paris;VALUE=DATE:20240712
DTEND;TZID=Europe/Paris;VALUE=DATE:20250407
DTSTAMP:20250606T084534Z
URL:https://freddeuxcecilereims.org/evenements/fred-deux-dans-les-collecti
 ons-xxe-xxie-siecles/
SUMMARY:Fred Deux dans les collections XXe/XXIe siècles
DESCRIPTION:Le musée des Beaux-Arts de Lyon rend hommage à Fred Deux à l
 ’occasion du centenaire de sa naissance en présentant une série d’œ
 uvres entrées dans ses collections suite à l’importante exposition qu
 ’il lui a consacrée en 2017 : Le monde de Fred Deux.\n\nFred Deux\, de
 ssinateur\, poète oral\, écrivain\, auteur d’un livre culte\, La Gana
 \, est un artiste singulier\, irréductible aux modes et aux courants.\n\n
 Cet autodidacte\, né dans la cave d’une maison bourgeoise à Boulogne-B
 illancourt\, au sein d’une famille ouvrière\, n’a eu de cesse\, comme
  il le disait\, de passer. Passer à travers le mur de la cave pour accéd
 er à la vie qui appelle et qui brûle. Passer les frontières entre les a
 rts\, en allant du dessin au mot écrit afin d’explorer toujours plus av
 ant l’inconnu en lui. Passer et faire passer : s’effacer peu à peu da
 ns le dessin\, afin que cela soit la vie même qui passe et se donne.\n\nL
 ’accrochage qui réunit 30 dessins\, restitue ce monde polyphonique\, en
  suivant un fil chronologique\, celui des cycles entre lesquels l’artist
 e éprouvait le besoin de « se casser la main ». Il montre la cohérence
  profonde d’une œuvre qui\, dès le départ\, pose telles deux matrices
  les outils qui la façonneront : la ligne et la tache. Des dessins dits d
 e la Kleepathologie\, faits à la fin des années 1940 à l’œuvre ultim
 e\, en passant par les jalons majeurs de ce travail-Otages\, Spermes noir
 s et Spermes colorés\, Autoportraits\, dessins monumentaux des années
  1980 : c’est le monde Fred Deux qui se donne à voir et à traverser.\n
 \nEn savoir +
ATTACH;FMTTYPE=image/jpeg:https://freddeuxcecilereims.org/site/wp-content/
 uploads/fred-deux-la-patiente-1972-scaled.jpg
CATEGORIES:Exposition
LOCATION:Musée des Beaux-Arts de Lyon\, 20 Place des Terreaux\, Lyon\, 690
 01\, France
X-APPLE-STRUCTURED-LOCATION;VALUE=URI;X-ADDRESS=20 Place des Terreaux\, Lyo
 n\, 69001\, France;X-APPLE-RADIUS=100;X-TITLE=Musée des Beaux-Arts de Lyo
 n:geo:0,0
END:VEVENT
BEGIN:VTIMEZONE
TZID:Europe/Paris
X-LIC-LOCATION:Europe/Paris
BEGIN:DAYLIGHT
DTSTART:20240331T030000
TZOFFSETFROM:+0100
TZOFFSETTO:+0200
TZNAME:CEST
END:DAYLIGHT
BEGIN:STANDARD
DTSTART:20241027T020000
TZOFFSETFROM:+0200
TZOFFSETTO:+0100
TZNAME:CET
END:STANDARD
BEGIN:DAYLIGHT
DTSTART:20250330T030000
TZOFFSETFROM:+0100
TZOFFSETTO:+0200
TZNAME:CEST
END:DAYLIGHT
END:VTIMEZONE
END:VCALENDAR