BEGIN:VCALENDAR
VERSION:2.0
PRODID:-//wp-events-plugin.com//7.2.3.1//EN
TZID:Europe/Paris
X-WR-TIMEZONE:Europe/Paris
BEGIN:VEVENT
UID:6@freddeuxcecilereims.org
DTSTART;TZID=Europe/Paris;VALUE=DATE:20240330
DTEND;TZID=Europe/Paris;VALUE=DATE:20240929
DTSTAMP:20250605T162007Z
URL:https://freddeuxcecilereims.org/evenements/fred-deux-et-ses-amis-genev
 ieve-bonnefoi-et-pierre-brache/
SUMMARY:Fred Deux et ses amis\, Geneviève Bonnefoi et Pierre Brache
DESCRIPTION:Dans le cadre du centenaire de la naissance de Fred Deux\, l'ab
 baye de Beaulieu-en-Rouergue et son association culturelle présentent cet
 te exposition temporaire : une parfaite occasion de découvrir le travail 
 de cet artiste incontournable !\n\n\n\n\nUne exposition anniversaire\n\n\n
 \n\n\n\n\n\nLa collection d’œuvres d’art moderne réunie par Pierre B
 rache et Geneviève Bonnefoi compte plus de 120 œuvres de Fred Deux et es
 t\, en cela\, la collection privée la plus importante des œuvres de cet 
 artiste.  Nombre de celles-ci sont dans les réserves de l’abbaye et n
 ’ont jamais été montrées au public.\n\nFred Deux fut dessinateur et 
 écrivain. Philippe Dagen écrivait dans le journal Le Monde en 2015 qu’
 il était l’un des créateurs les plus singuliers de la seconde moitié 
 du XXème siècle et qu’il faisait « d’un automatisme inconscient\,
  ou très peu conscient\, le principe de sa création ».\n\nCécile Reim
 s\, graveur\, compagne de toute sa vie\, a contribué à la diffusion de s
 on œuvre par la gravure et sera également représentée dans cette expos
 ition. Cécile Reims écrit de lui\, en 2009 : « Fred est resté ouvri
 er dans l’âme. Ouvrier de sa propre vie »\n\nUne rétrospective de l
 ’œuvre de Fred Deux a eu lieu au Centre Pompidou à Paris en 2004. Plus
  récemment\, en 2017\, le musée des Beaux-Arts de Lyon lui a consacré u
 ne exposition.\nCette année\, l'exposition est présentée par l'Associat
 ion culturelle de l'Abbaye de Beaulieu-en-Rouergue.\n\nPierre Wat\, profes
 seur d’histoire de l’art à l’université de Panthéon-Sorbonne\, au
 teur de nombreux ouvrages magistraux et articles sur les peintres de la p
 ériode contemporaine\, et référent quant à l’œuvre de Fred Deux\, e
 st le commissaire de cette exposition (après avoir été le commissaire d
 e la rétrospective Nicolas de Staël actuellement en cours au Musée d’
 Art Moderne de la Ville de Paris\, dont les critiques louent notamment l
 ’intelligence de la scénographie)\n\nUne centaine d'œuvres de Fred Deu
 x en provenance principalement de la Collection Brache-Bonnefoi seront pr
 ésentées ainsi que quelles gravures de Cécile Reims. Des livres illustr
 és\, documents divers d'archives\, correspondances\, catalogues… seront
  aussi exposés.\n\n\n\n
ATTACH;FMTTYPE=image/jpeg:https://freddeuxcecilereims.org/site/wp-content/
 uploads/Invitation-vernissage-abbaye-e1714117307929.jpg
CATEGORIES:Exposition
LOCATION:Abbaye de Beaulieu-en-Rouergue\, 1086 route de l'abbaye\, Ginals\,
  82330\, France
X-APPLE-STRUCTURED-LOCATION;VALUE=URI;X-ADDRESS=1086 route de l'abbaye\, Gi
 nals\, 82330\, France;X-APPLE-RADIUS=100;X-TITLE=Abbaye de Beaulieu-en-Rou
 ergue:geo:0,0
END:VEVENT
BEGIN:VTIMEZONE
TZID:Europe/Paris
X-LIC-LOCATION:Europe/Paris
BEGIN:STANDARD
DTSTART:20231029T020000
TZOFFSETFROM:+0200
TZOFFSETTO:+0100
TZNAME:CET
END:STANDARD
BEGIN:DAYLIGHT
DTSTART:20240331T030000
TZOFFSETFROM:+0100
TZOFFSETTO:+0200
TZNAME:CEST
END:DAYLIGHT
END:VTIMEZONE
END:VCALENDAR