BEGIN:VCALENDAR
VERSION:2.0
PRODID:-//wp-events-plugin.com//7.2.3.1//EN
TZID:Europe/Paris
X-WR-TIMEZONE:Europe/Paris
BEGIN:VEVENT
UID:12@freddeuxcecilereims.org
DTSTART;TZID=Europe/Paris;VALUE=DATE:20241119
DTEND;TZID=Europe/Paris;VALUE=DATE:20241125
DTSTAMP:20250606T083056Z
URL:https://freddeuxcecilereims.org/evenements/fred-deux-toute-une-vie-de-
 dessins/
SUMMARY:Fred Deux • Toute une vie de dessins
DESCRIPTION:Organisée par Gaele et Hubert Hervouet\, tous deux membres de 
 l'association\, cette exposition offre à voir des œuvres graphiques couv
 rant quarante années de la vie de Fred Deux\, de 1971 à 2011\, ainsi que
  des gravures de Cécile Reims d’après des dessins de Fred. seront éga
 lement présentés trois textes de Fred Deux\, reproduits et tirés d’ou
 vrages publiés par Alain Margaron.\n\n&nbsp\;\n\n19 novembre • 18h : ve
 rnissage\n21 novembre • 18h : intervention à propos du dessin « Corps 
 de Loi »\n22 novembre • 15h : intervention autour du dessin « Autoport
 rait »\n\nEntrée gratuite
ATTACH;FMTTYPE=image/jpeg:https://freddeuxcecilereims.org/site/wp-content/
 uploads/Exposition-Fred-Deux-St-Nazaire-scaled.jpg
CATEGORIES:Exposition,Rencontre
LOCATION:Le Parvis\, 6 passage Henri Soulas\, place des 4 Z'horloges\, Sain
 t-Nazaire\, 44600\, France
X-APPLE-STRUCTURED-LOCATION;VALUE=URI;X-ADDRESS=6 passage Henri Soulas\, pl
 ace des 4 Z'horloges\, Saint-Nazaire\, 44600\, France;X-APPLE-RADIUS=100;X
 -TITLE=Le Parvis:geo:0,0
END:VEVENT
BEGIN:VTIMEZONE
TZID:Europe/Paris
X-LIC-LOCATION:Europe/Paris
BEGIN:STANDARD
DTSTART:20241027T020000
TZOFFSETFROM:+0200
TZOFFSETTO:+0100
TZNAME:CET
END:STANDARD
END:VTIMEZONE
END:VCALENDAR