BEGIN:VCALENDAR
VERSION:2.0
PRODID:-//wp-events-plugin.com//7.2.3.1//EN
TZID:Europe/Paris
X-WR-TIMEZONE:Europe/Paris
BEGIN:VEVENT
UID:5@freddeuxcecilereims.org
DTSTART;TZID=Europe/Paris;VALUE=DATE:20240209
DTEND;TZID=Europe/Paris;VALUE=DATE:20241230
DTSTAMP:20250605T173306Z
URL:https://freddeuxcecilereims.org/evenements/fred-deux/
SUMMARY:Fred Deux
DESCRIPTION:Nouvel accrochage pour le centenaire de sa naissance\nLe Musée
  a ouvert depuis 2002 une salle permanente exclusivement dédiée à la co
 llection du couple d’artistes Cécile Reims et Fred Deux. L’importanc
 e du fonds\, constitué par un enrichissement régulier d’achats et surt
 out de leurs diverses donations au fil des expositions successives depuis 
 1989\, permet de présenter chaque année une nouvelle sélection de dessi
 ns et de gravures des artistes\, au milieu des livres\, des sculptures ext
 ra-européennes qui peuplaient leur demeure.\nPour commémorer le centenai
 re de la naissance de Fred Deux nous présentons cette année 2024\, un e
 nsemble d’œuvres de 1948 à 2011\, représentatif de ses soixante-cinq
  années de création\, depuis ses premiers pastels et craies nourris de s
 on admiration pour Paul Klee\, ses premières « traces »\, taches de p
 eintures\, ses minutieuses encres à la plume\, ses grands crayons et aqua
 relles\, fruits de son introspection permanente en quête du dessin\, tout
  en privilégiant ses œuvres autobiographiques telles que La Gana\, le 
 Retable du 17 rue Notre-Dame\, ses Autoportraits\, mais aussi ses objet
 s – assemblages\, insolites\, méconnus\, uniques dans les collections p
 ubliques.\nEn savoir +
ATTACH;FMTTYPE=image/jpeg:https://freddeuxcecilereims.org/site/wp-content/
 uploads/20240126175951.png
CATEGORIES:Exposition
LOCATION:Musée Saint Roch\, Rue de l’Hospice Saint-Roch\, Issoudun\, 361
 05\, France
X-APPLE-STRUCTURED-LOCATION;VALUE=URI;X-ADDRESS=Rue de l’Hospice Saint-Ro
 ch\, Issoudun\, 36105\, France;X-APPLE-RADIUS=100;X-TITLE=Musée Saint Roc
 h:geo:0,0
END:VEVENT
BEGIN:VTIMEZONE
TZID:Europe/Paris
X-LIC-LOCATION:Europe/Paris
BEGIN:STANDARD
DTSTART:20231029T020000
TZOFFSETFROM:+0200
TZOFFSETTO:+0100
TZNAME:CET
END:STANDARD
BEGIN:DAYLIGHT
DTSTART:20240331T030000
TZOFFSETFROM:+0100
TZOFFSETTO:+0200
TZNAME:CEST
END:DAYLIGHT
BEGIN:STANDARD
DTSTART:20241027T020000
TZOFFSETFROM:+0200
TZOFFSETTO:+0100
TZNAME:CET
END:STANDARD
END:VTIMEZONE
END:VCALENDAR