BEGIN:VCALENDAR
VERSION:2.0
PRODID:-//wp-events-plugin.com//7.2.3.1//EN
TZID:Europe/Paris
X-WR-TIMEZONE:Europe/Paris
BEGIN:VEVENT
UID:17@freddeuxcecilereims.org
DTSTART;TZID=Europe/Paris;VALUE=DATE:20250918
DTEND;TZID=Europe/Paris;VALUE=DATE:20251123
DTSTAMP:20250908T150234Z
URL:https://freddeuxcecilereims.org/evenements/le-dessin-cet-inconnu/
SUMMARY:Le dessin\, cet inconnu
DESCRIPTION:Fred Deux (1924-2015)\, figure singulière de l’art et de la 
 littérature du XXe siècle\, a développé une œuvre foisonnante\, nourr
 ie par l’exploration de l’inconscient et de l’imaginaire. Son travai
 l graphique\, souvent proche de l’automatisme\, fait dialoguer formes or
 ganiques et mondes intérieurs. Également écrivain\, il a laissé une œ
 uvre littéraire rare et habitée\, où se rejoignent poésie\, mémoire e
 t vision.\n\nVernissage le mercredi 17 Septembre de 17 à 21 h\nUn temps f
 ort aura lieu à 19h avec la présentation de l’exposition par Jean-Jacq
 ues Plaisance\, suivie de la lecture d’un livre unique de Fred Deux\, is
 su de la collection personnelle d’André Breton.\n\nEn savoir +\n\n_____
 ___\nExposition du 18 septembre au 22 novembre 2025\nDu mardi au samedi de
  14h à 19h\nGalerie  Les Yeux Fertiles\n27 rue de Seine 75006 Paris\n01 
 43 26 27 91  -  06 07 44 58 78\ncontact@galerie-lesyeuxfertiles.com
ATTACH;FMTTYPE=image/jpeg:https://freddeuxcecilereims.org/site/wp-content/
 uploads/unnamed-scaled.jpg
CATEGORIES:Exposition
LOCATION:Galerie Les Yeux Fertiles\, 27 rue de Seine\, Paris\, 75006\, Fran
 ce
X-APPLE-STRUCTURED-LOCATION;VALUE=URI;X-ADDRESS=27 rue de Seine\, Paris\, 7
 5006\, France;X-APPLE-RADIUS=100;X-TITLE=Galerie Les Yeux Fertiles:geo:0,0
END:VEVENT
BEGIN:VTIMEZONE
TZID:Europe/Paris
X-LIC-LOCATION:Europe/Paris
BEGIN:DAYLIGHT
DTSTART:20250330T030000
TZOFFSETFROM:+0100
TZOFFSETTO:+0200
TZNAME:CEST
END:DAYLIGHT
BEGIN:STANDARD
DTSTART:20251026T020000
TZOFFSETFROM:+0200
TZOFFSETTO:+0100
TZNAME:CET
END:STANDARD
END:VTIMEZONE
END:VCALENDAR