BEGIN:VCALENDAR
VERSION:2.0
PRODID:-//wp-events-plugin.com//7.2.3.1//EN
TZID:Europe/Paris
X-WR-TIMEZONE:Europe/Paris
BEGIN:VEVENT
UID:13@freddeuxcecilereims.org
DTSTART;TZID=Europe/Paris:20250125T150000
DTEND;TZID=Europe/Paris:20250125T160000
DTSTAMP:20250606T083507Z
URL:https://freddeuxcecilereims.org/evenements/presentation-du-numero-2-de
 s-cahiers-cecile-reims-fred-deux/
SUMMARY:Présentation du numéro 2 des Cahiers Cécile Reims & Fred Deux
DESCRIPTION:À l’occasion de la parution du numéro deux des Cahiers Céc
 ile Reims &amp\; Fred Deux\, Chris Guitard\, Frédérick Aubourg et Trista
 n Sénécal\, membres du comité de rédaction\, présenteront la revue à
  la Halle Saint Pierre à Paris (18e).\n\nPour découvrir et commander la 
 revue\, rendez-vous sur la page consacrée.
ATTACH;FMTTYPE=image/jpeg:https://freddeuxcecilereims.org/site/wp-content/
 uploads/CahiersFDCR_2_1eCouv.jpg
CATEGORIES:Rencontre
LOCATION:Auditorium\, Halle Saint-Pierre\, 2 rue Ronsard\, paris\, 75018\, 
 France
X-APPLE-STRUCTURED-LOCATION;VALUE=URI;X-ADDRESS=2 rue Ronsard\, paris\, 750
 18\, France;X-APPLE-RADIUS=100;X-TITLE=Auditorium\, Halle Saint-Pierre:geo
 :0,0
END:VEVENT
BEGIN:VTIMEZONE
TZID:Europe/Paris
X-LIC-LOCATION:Europe/Paris
BEGIN:STANDARD
DTSTART:20241027T020000
TZOFFSETFROM:+0200
TZOFFSETTO:+0100
TZNAME:CET
END:STANDARD
END:VTIMEZONE
END:VCALENDAR