BEGIN:VCALENDAR
VERSION:2.0
PRODID:-//wp-events-plugin.com//7.2.3.1//EN
TZID:Europe/Paris
X-WR-TIMEZONE:Europe/Paris
BEGIN:VEVENT
UID:1@freddeuxcecilereims.org
DTSTART;TZID=Europe/Paris:20240111T190000
DTEND;TZID=Europe/Paris:20240111T210000
DTSTAMP:20250605T173613Z
URL:https://freddeuxcecilereims.org/evenements/rencontre-signature/
SUMMARY:Rencontre / Signature
DESCRIPTION:Frédérick Aubourg présentera son ouvrage Fred Deux\, l’in
 corrigible. Inédits de La Gana paru aux Éditions Cohen&amp\;Cohen à l
 a librairie L’Écume des Pages à Paris\, en présence de Pierre Wat\, h
 istorien de l’art et critique d’art. Une vitrine dédiée à Fred Deux
  sera réalisée pour l’occasion.\n\nEn savoir +\n\n&nbsp\;\n\n&nbsp\;
ATTACH;FMTTYPE=image/jpeg:https://freddeuxcecilereims.org/site/wp-content/
 uploads/FREDDEUX_COUV_IV2-scaled.webp
CATEGORIES:Conférence
LOCATION:Librairie L’Ecume des Pages\, 174 Bd St-Germain \, Paris\, 75006
 \, France
X-APPLE-STRUCTURED-LOCATION;VALUE=URI;X-ADDRESS=174 Bd St-Germain \, Paris\
 , 75006\, France;X-APPLE-RADIUS=100;X-TITLE=Librairie L’Ecume des Pages:
 geo:0,0
END:VEVENT
BEGIN:VTIMEZONE
TZID:Europe/Paris
X-LIC-LOCATION:Europe/Paris
BEGIN:STANDARD
DTSTART:20231029T020000
TZOFFSETFROM:+0200
TZOFFSETTO:+0100
TZNAME:CET
END:STANDARD
END:VTIMEZONE
END:VCALENDAR