BEGIN:VCALENDAR
VERSION:2.0
PRODID:-//wp-events-plugin.com//7.2.3.1//EN
TZID:Europe/Paris
X-WR-TIMEZONE:Europe/Paris
BEGIN:VEVENT
UID:10@freddeuxcecilereims.org
DTSTART;TZID=Europe/Paris:20241212T190000
DTEND;TZID=Europe/Paris:20241212T230000
DTSTAMP:20250606T081613Z
URL:https://freddeuxcecilereims.org/evenements/soiree-fred-deux-2/
SUMMARY:Soirée Fred Deux
DESCRIPTION:19h • Etre deux ou les bandes magiques (spectacle)\nLecture t
 héâtralisée du livre Etre deux ou les bandes magiques de Muriel Denis s
 ur l'artiste Fred Deux.\n\n20h30 • Voir ce que devient l’ombre (film)\
 nde Matthieu Chatellier\, France\, 2011\, 1h29\n\nEn savoir +
ATTACH;FMTTYPE=image/jpeg:https://freddeuxcecilereims.org/site/wp-content/
 uploads/une-soiree-un-artiste.jpg
CATEGORIES:Projection,Spectacle
LOCATION:Espace aragon\, 19bis Bd Jules Ferry\, Villard-Bonnot\, 38190\, Fr
 ance
X-APPLE-STRUCTURED-LOCATION;VALUE=URI;X-ADDRESS=19bis Bd Jules Ferry\, Vill
 ard-Bonnot\, 38190\, France;X-APPLE-RADIUS=100;X-TITLE=Espace aragon:geo:0
 ,0
END:VEVENT
BEGIN:VTIMEZONE
TZID:Europe/Paris
X-LIC-LOCATION:Europe/Paris
BEGIN:STANDARD
DTSTART:20241027T020000
TZOFFSETFROM:+0200
TZOFFSETTO:+0100
TZNAME:CET
END:STANDARD
END:VTIMEZONE
END:VCALENDAR