BEGIN:VCALENDAR
VERSION:2.0
PRODID:-//wp-events-plugin.com//7.2.3.1//EN
TZID:Europe/Paris
X-WR-TIMEZONE:Europe/Paris
BEGIN:VEVENT
UID:4@freddeuxcecilereims.org
DTSTART;TZID=Europe/Paris:20240203T190000
DTEND;TZID=Europe/Paris:20240203T190000
DTSTAMP:20250605T170133Z
URL:https://freddeuxcecilereims.org/evenements/soiree-fred-deux/
SUMMARY:Les bandes magiques de Fred Deux
DESCRIPTION:Soirée présentée par Frédérick Aubourg\, Christophe Guitar
 d et Tristan Sénécal\nLecture par Denis Lavant\nDans le cadre du centena
 ire de la naissance de Fred Deux (1924-2015)\, l’association des Amis de
  Fred Deux et Cécile Reims propose une soirée autour de l’artiste.\nDe
 ssinateur\, (une rétrospective lui a été consacrée au Musée des Beaux
 -Arts de Lyon en 2017)\, et écrivain (La Gana (1958)\, Sens inverse (1960
 )\, La Perruque (1969)\, Fred Deux a marqué la scène littéraire par son
  écriture rude\, poétique et profondément humaine ainsi que par ses des
 sins dont la filiation avec Paul Klee ne cesse de fasciner le public.\n\nC
 ette soirée nous permettra de découvrir la voix de l’incroyable narrat
 eur qu’était également Fred Deux au travers d’enregistrements*. Deni
 s Lavant\, quant à lui\, proposera une lecture de passages inédits du pr
 emier roman de Fred Deux\, La Gana.\n\n* Extraits des 200 heures d’enreg
 istrements accessibles sur le site créé par André Kleim et Vincent Reig
 nier\, lesbandesmagiques.fr.
ATTACH;FMTTYPE=image/jpeg:https://freddeuxcecilereims.org/site/wp-content/
 uploads/02-03-Fred-Deux-scaled-1.jpg
CATEGORIES:Lecture,Rencontre
LOCATION:Maison de la Poésie\, Passage Molière 157 rue Saint-Martin \, Pa
 ris\, 75003\, France
X-APPLE-STRUCTURED-LOCATION;VALUE=URI;X-ADDRESS=Passage Molière 157 rue Sa
 int-Martin \, Paris\, 75003\, France;X-APPLE-RADIUS=100;X-TITLE=Maison de 
 la Poésie:geo:0,0
END:VEVENT
BEGIN:VTIMEZONE
TZID:Europe/Paris
X-LIC-LOCATION:Europe/Paris
BEGIN:STANDARD
DTSTART:20231029T020000
TZOFFSETFROM:+0200
TZOFFSETTO:+0100
TZNAME:CET
END:STANDARD
END:VTIMEZONE
END:VCALENDAR