BEGIN:VCALENDAR
VERSION:2.0
PRODID:-//wp-events-plugin.com//7.2.3.1//EN
TZID:Europe/Paris
X-WR-TIMEZONE:Europe/Paris
BEGIN:VEVENT
UID:14@freddeuxcecilereims.org
DTSTART;TZID=Europe/Paris;VALUE=DATE:20240612
DTEND;TZID=Europe/Paris;VALUE=DATE:20240713
DTSTAMP:20250606T090108Z
URL:https://freddeuxcecilereims.org/evenements/soudain-eblouissement/
SUMMARY:Soudain éblouissement
DESCRIPTION:« Nous consacrons notre deuxième exposition Fred Deux\, cett
 e année\, à l’occasion des 100 ans de sa naissance\, à sa dernière p
 ériode\, de 2002 à 2013. Une époque où nous étions très proches\, am
 is. La galerie le représentait en exclusivité.\n\nCe n’est pas la prem
 ière fois que Fred Deux utilisait la peinture dans ses dessins. Il qualif
 iait auparavant celle-ci de tache. Il avait même réalisé quelques œuvr
 es entièrement peintes (toujours sur papier). Mais désormais\, plus pré
 cisément depuis Soudain éblouissement\, 2002\, la peinture joue un rôle
  essentiel.\n\nLe processus d’élaboration à partir de la tache est le 
 fondement de mon travail actuel\, m’a-t-il dit. La couleur me conduit\, 
 ce n’est pas moi qui la conduis.\n\nLa peinture irrigue désormais ses d
 essins\, se substitue\, totalement parfois\, à la mine de plomb ou à l
 ’encre. Elle les régénère.\n\nL’artiste s’est donné les moyens d
 e se renouveler jusqu’à la fin\, sans se répéter\, ni s’arrêter à
  des images. Il a poursuivi sa quête du vivant\, sur des pistes plus mét
 aphysiques\, spirituelles\, comme il l’avait commencé dans les années 
 80\, en enrichissant ses recherches des révélations de la  peinture abs
 traite. Réquichot (exposé comme lui chez Daniel Cordier) et Karl Godeg\,
  un frère en art découvert à la galerie\, lui ont ouvert une voie\, qu
 ’emprunteront également d’autres artistes.\n\nFred Deux était plus h
 eureux\, plus ouvert au monde\, aimait nos bons dîners\, s’émerveillai
 t devant la nature\, les oiseaux\, les brindilles\, toutes les petites cho
 ses qu’il admirait le long de l’Indre\, à la Châtre\, et qui ont nou
 rri ses couleurs.\n\nSur ma feuille\, l’oiseau regarde ce que je fais. I
 ci\, ensemble\, dans notre nid\, je suis la branche à laquelle il se reti
 ent. Finir n’est qu’un long commencement. C’est un hymne à la joie
  qui vole et tourne. Puis tout s’efface. »\nAlain Margaron\, dernier g
 aleriste et ami de Fred Deux\n\nEn savoir +\n\n
ATTACH;FMTTYPE=image/jpeg:https://freddeuxcecilereims.org/site/wp-content/
 uploads/2002-Soudain-eblouissement-2002-Encre-de-Chine-crayon-sur-tache-ar
 gentee-104-x-66-cm-700x1024-1.webp
CATEGORIES:Exposition
LOCATION:Galerie Alain Margaron\, 5\, rue du Perche\, Paris\, 75003\, Franc
 e
X-APPLE-STRUCTURED-LOCATION;VALUE=URI;X-ADDRESS=5\, rue du Perche\, Paris\,
  75003\, France;X-APPLE-RADIUS=100;X-TITLE=Galerie Alain Margaron:geo:0,0
END:VEVENT
BEGIN:VTIMEZONE
TZID:Europe/Paris
X-LIC-LOCATION:Europe/Paris
BEGIN:DAYLIGHT
DTSTART:20240331T030000
TZOFFSETFROM:+0100
TZOFFSETTO:+0200
TZNAME:CEST
END:DAYLIGHT
END:VTIMEZONE
END:VCALENDAR