BEGIN:VCALENDAR
VERSION:2.0
PRODID:-//wp-events-plugin.com//7.2.3.1//EN
TZID:Europe/Paris
X-WR-TIMEZONE:Europe/Paris
BEGIN:VEVENT
UID:3@freddeuxcecilereims.org
DTSTART;TZID=Europe/Paris:20240210T180000
DTEND;TZID=Europe/Paris:20240210T200000
DTSTAMP:20250603T104925Z
URL:https://freddeuxcecilereims.org/evenements/voir-ce-que-devient-lombre/
SUMMARY:Voir ce que devient l'ombre
DESCRIPTION:Rencontre de deux artistes qui portent en eux les souvenirs du 
 siècle et se préparent à conclure leur œuvre et leur existence. À plu
 s de quatre-vingt ans\, Fred Deux et Cécile Reims nous livrent une pensé
 e moderne\, audacieuse et sans compromis sur le 20e siècle\, sur le rôle
  de la création et sur la vie.\n\nProjection dans le cadre du festival Lo
 ngueur d'ondes en présence du réalisateur Matthieu Chatellier et de la m
 onteuse Daniela de Felice.\n\n5 € (achat sur place)
ATTACH;FMTTYPE=image/jpeg:https://freddeuxcecilereims.org/site/wp-content/
 uploads/af-voir-ce-que-devient-lombre-1.png
CATEGORIES:Projection
LOCATION:Cinéma Les Studios\,  136 Rue Jean Jaurès\, Brest\, 29200\, Fran
 ce
X-APPLE-STRUCTURED-LOCATION;VALUE=URI;X-ADDRESS= 136 Rue Jean Jaurès\, Bre
 st\, 29200\, France;X-APPLE-RADIUS=100;X-TITLE=Cinéma Les Studios:geo:0,0
END:VEVENT
BEGIN:VTIMEZONE
TZID:Europe/Paris
X-LIC-LOCATION:Europe/Paris
BEGIN:STANDARD
DTSTART:20231029T020000
TZOFFSETFROM:+0200
TZOFFSETTO:+0100
TZNAME:CET
END:STANDARD
END:VTIMEZONE
END:VCALENDAR